BEGIN:VCALENDAR
VERSION:2.0
PRODID:-//Lake Arbor Golf Course - City of Arvada - ECPv6.15.20//NONSGML v1.0//EN
CALSCALE:GREGORIAN
METHOD:PUBLISH
X-ORIGINAL-URL:https://lakearborgolf.com
X-WR-CALDESC:Events for Lake Arbor Golf Course - City of Arvada
REFRESH-INTERVAL;VALUE=DURATION:PT1H
X-Robots-Tag:noindex
X-PUBLISHED-TTL:PT1H
BEGIN:VTIMEZONE
TZID:UTC
BEGIN:STANDARD
TZOFFSETFROM:+0000
TZOFFSETTO:+0000
TZNAME:UTC
DTSTART:20240101T000000
END:STANDARD
END:VTIMEZONE
BEGIN:VEVENT
DTSTART;TZID=UTC:20250301T080000
DTEND;TZID=UTC:20250301T120000
DTSTAMP:20260423T124539
CREATED:20250301T011027Z
LAST-MODIFIED:20250301T011028Z
UID:10000081-1740816000-1740830400@lakearborgolf.com
SUMMARY:Lake Arbor Benedict
DESCRIPTION:
URL:https://lakearborgolf.com/event/lake-arbor-benedict-4/
CATEGORIES:Restaurant Specials
END:VEVENT
BEGIN:VEVENT
DTSTART;TZID=UTC:20250302T080000
DTEND;TZID=UTC:20250302T120000
DTSTAMP:20260423T124539
CREATED:20250301T011231Z
LAST-MODIFIED:20250301T011232Z
UID:10000082-1740902400-1740916800@lakearborgolf.com
SUMMARY:Lake Arbor Benedict
DESCRIPTION:
URL:https://lakearborgolf.com/event/lake-arbor-benedict-5/
CATEGORIES:Restaurant Specials
END:VEVENT
BEGIN:VEVENT
DTSTART;TZID=UTC:20250308T080000
DTEND;TZID=UTC:20250308T120000
DTSTAMP:20260423T124539
CREATED:20250308T215922Z
LAST-MODIFIED:20250308T215923Z
UID:10000083-1741420800-1741435200@lakearborgolf.com
SUMMARY:Breakfast Chimis!
DESCRIPTION:
URL:https://lakearborgolf.com/event/breakfast-chimis-2/
CATEGORIES:Restaurant Specials
END:VEVENT
BEGIN:VEVENT
DTSTART;TZID=UTC:20250309T080000
DTEND;TZID=UTC:20250309T120000
DTSTAMP:20260423T124539
CREATED:20250308T224915Z
LAST-MODIFIED:20250308T224917Z
UID:10000084-1741507200-1741521600@lakearborgolf.com
SUMMARY:Breakfast Chimis!
DESCRIPTION:
URL:https://lakearborgolf.com/event/breakfast-chimis-3/
CATEGORIES:Restaurant Specials
END:VEVENT
BEGIN:VEVENT
DTSTART;TZID=UTC:20250315T080000
DTEND;TZID=UTC:20250315T120000
DTSTAMP:20260423T124539
CREATED:20250314T211453Z
LAST-MODIFIED:20250314T211455Z
UID:10000085-1742025600-1742040000@lakearborgolf.com
SUMMARY:Corned Beef & Cheesy potato casserole
DESCRIPTION:
URL:https://lakearborgolf.com/event/corned-beef-cheesy-potato-casserole-2/
CATEGORIES:Restaurant Specials
END:VEVENT
BEGIN:VEVENT
DTSTART;TZID=UTC:20250316T080000
DTEND;TZID=UTC:20250316T120000
DTSTAMP:20260423T124539
CREATED:20250314T211853Z
LAST-MODIFIED:20250314T211856Z
UID:10000086-1742112000-1742126400@lakearborgolf.com
SUMMARY:Corned beef & cheesy potato casserole
DESCRIPTION:
URL:https://lakearborgolf.com/event/corned-beef-cheesy-potato-casserole-3/
CATEGORIES:Restaurant Specials
END:VEVENT
BEGIN:VEVENT
DTSTART;TZID=UTC:20250317T000000
DTEND;TZID=UTC:20250317T235959
DTSTAMP:20260423T124539
CREATED:20231121T222235Z
LAST-MODIFIED:20240412T205219Z
UID:10000006-1742169600-1742255999@lakearborgolf.com
SUMMARY:Saint Patrick's Day
DESCRIPTION:
URL:https://lakearborgolf.com/event/saint-patricks-day/
CATEGORIES:Holidays
END:VEVENT
BEGIN:VEVENT
DTSTART;TZID=UTC:20250322T080000
DTEND;TZID=UTC:20250322T120000
DTSTAMP:20260423T124539
CREATED:20250314T213114Z
LAST-MODIFIED:20250314T213116Z
UID:10000087-1742630400-1742644800@lakearborgolf.com
SUMMARY:Strawberry French Toast
DESCRIPTION:
URL:https://lakearborgolf.com/event/strawberry-french-toast-2/
CATEGORIES:Restaurant Specials
END:VEVENT
BEGIN:VEVENT
DTSTART;TZID=UTC:20250323T080000
DTEND;TZID=UTC:20250323T120000
DTSTAMP:20260423T124539
CREATED:20250314T213314Z
LAST-MODIFIED:20250314T213315Z
UID:10000088-1742716800-1742731200@lakearborgolf.com
SUMMARY:Strawberry French Toast
DESCRIPTION:
URL:https://lakearborgolf.com/event/strawberry-french-toast-3/
CATEGORIES:Restaurant Specials
END:VEVENT
BEGIN:VEVENT
DTSTART;TZID=UTC:20250329T080000
DTEND;TZID=UTC:20250329T120000
DTSTAMP:20260423T124539
CREATED:20250314T213811Z
LAST-MODIFIED:20250314T213813Z
UID:10000089-1743235200-1743249600@lakearborgolf.com
SUMMARY:Chicken Fried Steak & Eggs
DESCRIPTION:
URL:https://lakearborgolf.com/event/chicken-fried-steak-eggs-5/
CATEGORIES:Restaurant Specials
END:VEVENT
BEGIN:VEVENT
DTSTART;TZID=UTC:20250330T080000
DTEND;TZID=UTC:20250330T120000
DTSTAMP:20260423T124539
CREATED:20250314T213851Z
LAST-MODIFIED:20250314T213852Z
UID:10000090-1743321600-1743336000@lakearborgolf.com
SUMMARY:Chicken Fried Steak & Eggs
DESCRIPTION:
URL:https://lakearborgolf.com/event/chicken-fried-steak-eggs-6/
CATEGORIES:Restaurant Specials
END:VEVENT
END:VCALENDAR