BEGIN:VCALENDAR
VERSION:2.0
PRODID:-//Lake Arbor Golf Course - City of Arvada - ECPv6.15.20//NONSGML v1.0//EN
CALSCALE:GREGORIAN
METHOD:PUBLISH
X-ORIGINAL-URL:https://lakearborgolf.com
X-WR-CALDESC:Events for Lake Arbor Golf Course - City of Arvada
REFRESH-INTERVAL;VALUE=DURATION:PT1H
X-Robots-Tag:noindex
X-PUBLISHED-TTL:PT1H
BEGIN:VTIMEZONE
TZID:UTC
BEGIN:STANDARD
TZOFFSETFROM:+0000
TZOFFSETTO:+0000
TZNAME:UTC
DTSTART:20240101T000000
END:STANDARD
END:VTIMEZONE
BEGIN:VEVENT
DTSTART;TZID=UTC:20250419T080000
DTEND;TZID=UTC:20250419T120000
DTSTAMP:20260421T221303
CREATED:20250405T151402Z
LAST-MODIFIED:20250405T151403Z
UID:10000095-1745049600-1745064000@lakearborgolf.com
SUMMARY:Spiral Cut Ham & Eggs
DESCRIPTION:
URL:https://lakearborgolf.com/event/spiral-cut-ham-eggs/2025-04-19/
CATEGORIES:Restaurant Specials
END:VEVENT
END:VCALENDAR